BEGIN:VCALENDAR
VERSION:2.0
PRODID:-//wp-events-plugin.com//7.2.3.1//EN
TZID:America/New_York
X-WR-TIMEZONE:America/New_York
BEGIN:VEVENT
UID:103@ncpool.com
DTSTART;TZID=America/New_York:20260620T190000
DTEND;TZID=America/New_York:20260620T235900
DTSTAMP:20260408T191437Z
URL:https://ncpool.com/events/adult-night-saturday-june-20th/
SUMMARY:ADULT NIGHT: SATURDAY\, JUNE 20TH
DESCRIPTION:The FIRST NC Pool Adult Night will be held on Saturday\, June 2
 0h from 7pm - midnight for adults over 21 years of age\, including members
  and NON-MEMBERS.\n\nCOST AND DETAILS ARE TBD. This will be a Bring-You-Ow
 n night.\n\nThe pool will close at 630pm for this event\, and all/any part
 ies will be terminated at that time.\n\nTickets are normally available a w
 eek in advance at the main entrance of the pool.
CATEGORIES:ADULT NIGHTS
LOCATION:New Carrollton Pool\, 6250 Westbrook Drive\, New Carrollton\, MD\,
  20784\, Prince George's County\, United States
X-APPLE-STRUCTURED-LOCATION;VALUE=URI;X-ADDRESS=6250 Westbrook Drive\, New 
 Carrollton\, MD\, 20784\, Prince George's County\, United States;X-APPLE-R
 ADIUS=100;X-TITLE=New Carrollton Pool:geo:0,0
END:VEVENT
BEGIN:VTIMEZONE
TZID:America/New_York
X-LIC-LOCATION:America/New_York
BEGIN:DAYLIGHT
DTSTART:20260308T030000
TZOFFSETFROM:-0500
TZOFFSETTO:-0400
TZNAME:EDT
END:DAYLIGHT
END:VTIMEZONE
END:VCALENDAR