BEGIN:VCALENDAR
VERSION:2.0
PRODID:-//wp-events-plugin.com//7.2.3.1//EN
TZID:America/New_York
X-WR-TIMEZONE:America/New_York
BEGIN:VEVENT
UID:88@ncpool.com
DTSTART;TZID=America/New_York:20250621T190000
DTEND;TZID=America/New_York:20250621T235900
DTSTAMP:20250618T192156Z
URL:https://ncpool.com/events/adult-night-saturday-june-21-2025/
SUMMARY:ADULT NIGHT - SATURDAY\, JUNE 21\, 2025
DESCRIPTION:First Adult Night will be held on Saturday\, June 21\, 2025 fro
 m 7 pm- 10 pm. This will Bring Your Own entree. .\n\nNC Pool will provide 
 baked potato\, rolls\, sald and dessert\, as well as water\, soft drinks a
 nd adult beverages.\n\nMusic will be by DJ\, and of course\, there's swimm
 ing and more fun and games like cornhole and pickleball.\n\nCost is $35 ea
 ch by THURSDAY\, June 19th. After that\, there are limited tickets through
  Saturday\, but will cost $40 each.
CATEGORIES:ADULT NIGHTS
END:VEVENT
BEGIN:VTIMEZONE
TZID:America/New_York
X-LIC-LOCATION:America/New_York
BEGIN:DAYLIGHT
DTSTART:20250309T030000
TZOFFSETFROM:-0500
TZOFFSETTO:-0400
TZNAME:EDT
END:DAYLIGHT
END:VTIMEZONE
END:VCALENDAR