BEGIN:VCALENDAR
VERSION:2.0
PRODID:-//wp-events-plugin.com//7.2.3.1//EN
TZID:America/New_York
X-WR-TIMEZONE:America/New_York
BEGIN:VEVENT
UID:24@ncpool.com
DTSTART;TZID=America/New_York:20220709T073000
DTEND;TZID=America/New_York:20220709T120000
DTSTAMP:20220609T235441Z
URL:https://ncpool.com/events/sat-july-9-2022-ncr-dolphins-swim-meet-vs-in
 dian-head/
SUMMARY:Sat\, July 9\, 2022::: NCR Dolphins Swim Meet vs Indian Head
DESCRIPTION:The NCR Dolphins will have their fourth dual swim meet today a
 gainst Indian Head here at NC Pool. Click HERE  to go to the Swim Team we
 bsite for more information
CATEGORIES:Swim Team Events
LOCATION:New Carrollton Pool\, 6250 Westbrook Dr\, New Carrollton\, MD\, 20
 784\, United States
GEO:38.965391;-76.879006
X-APPLE-STRUCTURED-LOCATION;VALUE=URI;X-ADDRESS=6250 Westbrook Dr\, New Car
 rollton\, MD\, 20784\, United States;X-APPLE-RADIUS=100;X-TITLE=New Carrol
 lton Pool:geo:38.965391,-76.879006
END:VEVENT
BEGIN:VTIMEZONE
TZID:America/New_York
X-LIC-LOCATION:America/New_York
BEGIN:DAYLIGHT
DTSTART:20220313T030000
TZOFFSETFROM:-0500
TZOFFSETTO:-0400
TZNAME:EDT
END:DAYLIGHT
END:VTIMEZONE
END:VCALENDAR