BEGIN:VCALENDAR
VERSION:2.0
PRODID:-//wp-events-plugin.com//7.2.3.1//EN
TZID:America/New_York
X-WR-TIMEZONE:America/New_York
BEGIN:VEVENT
UID:12@ncpool.com
DTSTART;TZID=America/New_York:20220821T100000
DTEND;TZID=America/New_York:20220821T100000
DTSTAMP:20220809T144433Z
URL:https://ncpool.com/events/sun-august-21-2022-owner-member-early-entry/
SUMMARY:Sun\, August 21\, 2022: Owner-Member Early Entry
DESCRIPTION:Owner-Members will be allowed in early (10am) today. No guests\
 , just the members themselves.\n\nTo learn HOW to become an Owner-Member\,
  please click HERE to go to that page within our website.
CATEGORIES:Owner-Member Events
LOCATION:New Carrollton Pool\, 6250 Westbrook Dr\, New Carrollton\, MD\, 20
 784\, United States
GEO:38.965391;-76.879006
X-APPLE-STRUCTURED-LOCATION;VALUE=URI;X-ADDRESS=6250 Westbrook Dr\, New Car
 rollton\, MD\, 20784\, United States;X-APPLE-RADIUS=100;X-TITLE=New Carrol
 lton Pool:geo:38.965391,-76.879006
END:VEVENT
BEGIN:VTIMEZONE
TZID:America/New_York
X-LIC-LOCATION:America/New_York
BEGIN:DAYLIGHT
DTSTART:20220313T030000
TZOFFSETFROM:-0500
TZOFFSETTO:-0400
TZNAME:EDT
END:DAYLIGHT
END:VTIMEZONE
END:VCALENDAR